BEGIN:VCALENDAR
VERSION:2.0
PRODID:-//Kanta-Hämeen Muistiyhdistys ry - ECPv6.15.20//NONSGML v1.0//EN
CALSCALE:GREGORIAN
METHOD:PUBLISH
X-WR-CALNAME:Kanta-Hämeen Muistiyhdistys ry
X-ORIGINAL-URL:https://muistiaina.fi
X-WR-CALDESC:Tapahtumat Kanta-Hämeen Muistiyhdistys ry
REFRESH-INTERVAL;VALUE=DURATION:PT1H
X-Robots-Tag:noindex
X-PUBLISHED-TTL:PT1H
BEGIN:VTIMEZONE
TZID:Europe/Helsinki
BEGIN:DAYLIGHT
TZOFFSETFROM:+0200
TZOFFSETTO:+0300
TZNAME:EEST
DTSTART:20250330T010000
END:DAYLIGHT
BEGIN:STANDARD
TZOFFSETFROM:+0300
TZOFFSETTO:+0200
TZNAME:EET
DTSTART:20251026T010000
END:STANDARD
BEGIN:DAYLIGHT
TZOFFSETFROM:+0200
TZOFFSETTO:+0300
TZNAME:EEST
DTSTART:20260329T010000
END:DAYLIGHT
BEGIN:STANDARD
TZOFFSETFROM:+0300
TZOFFSETTO:+0200
TZNAME:EET
DTSTART:20261025T010000
END:STANDARD
BEGIN:DAYLIGHT
TZOFFSETFROM:+0200
TZOFFSETTO:+0300
TZNAME:EEST
DTSTART:20270328T010000
END:DAYLIGHT
BEGIN:STANDARD
TZOFFSETFROM:+0300
TZOFFSETTO:+0200
TZNAME:EET
DTSTART:20271031T010000
END:STANDARD
END:VTIMEZONE
BEGIN:VEVENT
DTSTART;TZID=Europe/Helsinki:20260422T141500
DTEND;TZID=Europe/Helsinki:20260422T151500
DTSTAMP:20260422T015853
CREATED:20260113T080139Z
LAST-MODIFIED:20260113T080139Z
UID:21592-1776867300-1776870900@muistiaina.fi
SUMMARY:PAROLA: Liikuntaa muistille! -musiikkiliikuntaryhmä
DESCRIPTION:Tervetuloa matalan kynnyksen ryhmään\, jossa liikkuminen on helppoa ja hauskaa\, mutta aktivoi aivoja tehokkaasti ja samalla kuntokin nousee. Ryhmässä soi vanha musiikki ja tehdään muistia kehittäviä tanssillisia liikesarjoja.  \nMukaan voi tulla vaikka muistin tai liikkumisen kanssa olisi jo haastetta. \nRyhmä on maksuton. Ohjaajana Milka Lintinen.
URL:https://muistiaina.fi/kalenteri/parola-liikuntaa-muistille-musiikkiliikuntaryhma-13/
LOCATION:Parolan nuoritalon vintti\, Parolantie 53\, Parola
CATEGORIES:Hattula
ORGANIZER;CN="Asiantuntija- ja tukikeskus Muistiluotsi":MAILTO:info@muistiaina.fi
END:VEVENT
BEGIN:VEVENT
DTSTART;TZID=Europe/Helsinki:20260422T150000
DTEND;TZID=Europe/Helsinki:20260422T170000
DTSTAMP:20260422T015853
CREATED:20260108T065747Z
LAST-MODIFIED:20260108T065747Z
UID:21130-1776870000-1776877200@muistiaina.fi
SUMMARY:HÄMEENLINNA: Muistisakki (vertaistukiryhmä)
DESCRIPTION:Vertaistukiryhmä muistisairauteen sairastuneille ja heidän läheisilleen \nKoskettaako muistisairaus elämäänne? Kaipaatteko tukea muistisairauden kanssa elämiseen? \n\n\nTulkaa tapaamaan kanssanne samassa elämäntilanteessa olevia. Ryhmässä voitte kuulla muita ja halutessanne jakaa kokemuksia. Saatte tietoa ja ymmärrystä muistisairauden kanssa elämiseen. Ryhmään voi osallistua myös yksin. Ryhmä on maksuton eikä vaadi ilmoittautumista\, sitoutumista tai Muistiyhdistyksen jäsenyyttä. \nTervetuloa tutustumaan! \n  \n\nAiheena: \n\nKe 22.4. Yhteislaulua Säestäjänä Riitta Kopra \nRyhmän yhteisessä osuudessa kuullaan hyödyllistä tietoa vierailijoilta ja asiantuntijoilta. Tämän jälkeen jakaannutaan vertaisryhmiin: sairastuneille on mukavaa ohjattua toimintaa ja puolisoille vertaistuellista keskustelua.
URL:https://muistiaina.fi/kalenteri/hameenlinna-muistisakki-vertaistukiryhma-7/
LOCATION:Kanta-Hämeen Muistiyhdistys\, Kasarmikatu 12\, Hämeenlinna\, Kanta-Häme\, 13100\, Suomi
CATEGORIES:Hämeenlinna
ORGANIZER;CN="Asiantuntija- ja tukikeskus Muistiluotsi":MAILTO:info@muistiaina.fi
END:VEVENT
END:VCALENDAR