BEGIN:VCALENDAR
VERSION:2.0
PRODID:-//Kanta-Hämeen Muistiyhdistys ry - ECPv6.15.20//NONSGML v1.0//EN
CALSCALE:GREGORIAN
METHOD:PUBLISH
X-WR-CALNAME:Kanta-Hämeen Muistiyhdistys ry
X-ORIGINAL-URL:https://muistiaina.fi
X-WR-CALDESC:Tapahtumat Kanta-Hämeen Muistiyhdistys ry
REFRESH-INTERVAL;VALUE=DURATION:PT1H
X-Robots-Tag:noindex
X-PUBLISHED-TTL:PT1H
BEGIN:VTIMEZONE
TZID:Europe/Helsinki
BEGIN:DAYLIGHT
TZOFFSETFROM:+0200
TZOFFSETTO:+0300
TZNAME:EEST
DTSTART:20250330T010000
END:DAYLIGHT
BEGIN:STANDARD
TZOFFSETFROM:+0300
TZOFFSETTO:+0200
TZNAME:EET
DTSTART:20251026T010000
END:STANDARD
BEGIN:DAYLIGHT
TZOFFSETFROM:+0200
TZOFFSETTO:+0300
TZNAME:EEST
DTSTART:20260329T010000
END:DAYLIGHT
BEGIN:STANDARD
TZOFFSETFROM:+0300
TZOFFSETTO:+0200
TZNAME:EET
DTSTART:20261025T010000
END:STANDARD
BEGIN:DAYLIGHT
TZOFFSETFROM:+0200
TZOFFSETTO:+0300
TZNAME:EEST
DTSTART:20270328T010000
END:DAYLIGHT
BEGIN:STANDARD
TZOFFSETFROM:+0300
TZOFFSETTO:+0200
TZNAME:EET
DTSTART:20271031T010000
END:STANDARD
END:VTIMEZONE
BEGIN:VEVENT
DTSTART;TZID=Europe/Helsinki:20260421T100000
DTEND;TZID=Europe/Helsinki:20260421T113000
DTSTAMP:20260423T114752
CREATED:20260209T065657Z
LAST-MODIFIED:20260209T065657Z
UID:22082-1776765600-1776771000@muistiaina.fi
SUMMARY:FORSSA: Muistikahvila
DESCRIPTION:Haluatko saada hyödyllistä tietoa ikääntymisestä\, hyvinvoinnista ja muistista? Muistikahvilat toivottavat kaikki tervetulleiksi\, niin muististaan kiinnostuneet\, muistisairastuneet kuin läheisetkin. \nOsallistuminen on maksutonta ja kaikille avointa. Kahvi ja leivonnainen 2 €. \n  \n\n\n\n\n\nTi 21.4. Aivoterveyttä elämän varrelle Muistijälki-hanke \n\n\nTi 19.5. Mukavaa ohjelmaa Kirsi Uusimäki\, muistihoitaja\, sh
URL:https://muistiaina.fi/kalenteri/forssa-muistikahvila-3/
LOCATION:Ystävän Kammari\, Hämeentie 17\, Forssa\, 30100
CATEGORIES:Forssa
ORGANIZER;CN="Asiantuntija- ja tukikeskus Muistiluotsi":MAILTO:info@muistiaina.fi
END:VEVENT
BEGIN:VEVENT
DTSTART;TZID=Europe/Helsinki:20260421T140000
DTEND;TZID=Europe/Helsinki:20260421T150000
DTSTAMP:20260423T114752
CREATED:20260107T135105Z
LAST-MODIFIED:20260107T135105Z
UID:21084-1776780000-1776783600@muistiaina.fi
SUMMARY:HÄMEENLINNA: Muistoja ja musiikkia -ryhmä
DESCRIPTION:Saisiko olla muistelua\, musiikkia ja mukavaa yhteistä tekemistä? 🎶 \n\n\nTervetuloa hyvänmielen ryhmään\, jonne läheiset ja avustajat ovat tervetulleita mukaan. Alussa kahvittelua. \n\n\nRyhmä on maksuton eikä vaadi ennakkoilmoittautumista tai Muistiyhdistyksen jäsenyyttä. \n\n  \n\n\nKysy lisää: \n\n\nSaila Lehtonen puh. 040 824 5948 \n\n\nsaila.lehtonen@muistiaina.fi \n\n\n\n 
URL:https://muistiaina.fi/kalenteri/hameenlinna-muistoja-ja-musiikkia-ryhma-12/
LOCATION:Kanta-Hämeen Muistiyhdistys\, Kasarmikatu 12\, Hämeenlinna\, Kanta-Häme\, 13100\, Suomi
CATEGORIES:Hämeenlinna
ORGANIZER;CN="Asiantuntija- ja tukikeskus Muistiluotsi":MAILTO:info@muistiaina.fi
END:VEVENT
END:VCALENDAR