BEGIN:VCALENDAR
VERSION:2.0
PRODID:-//Kanta-Hämeen Muistiyhdistys ry - ECPv6.15.20//NONSGML v1.0//EN
CALSCALE:GREGORIAN
METHOD:PUBLISH
X-WR-CALNAME:Kanta-Hämeen Muistiyhdistys ry
X-ORIGINAL-URL:https://muistiaina.fi
X-WR-CALDESC:Tapahtumat Kanta-Hämeen Muistiyhdistys ry
REFRESH-INTERVAL;VALUE=DURATION:PT1H
X-Robots-Tag:noindex
X-PUBLISHED-TTL:PT1H
BEGIN:VTIMEZONE
TZID:Europe/Helsinki
BEGIN:DAYLIGHT
TZOFFSETFROM:+0200
TZOFFSETTO:+0300
TZNAME:EEST
DTSTART:20250330T010000
END:DAYLIGHT
BEGIN:STANDARD
TZOFFSETFROM:+0300
TZOFFSETTO:+0200
TZNAME:EET
DTSTART:20251026T010000
END:STANDARD
BEGIN:DAYLIGHT
TZOFFSETFROM:+0200
TZOFFSETTO:+0300
TZNAME:EEST
DTSTART:20260329T010000
END:DAYLIGHT
BEGIN:STANDARD
TZOFFSETFROM:+0300
TZOFFSETTO:+0200
TZNAME:EET
DTSTART:20261025T010000
END:STANDARD
BEGIN:DAYLIGHT
TZOFFSETFROM:+0200
TZOFFSETTO:+0300
TZNAME:EEST
DTSTART:20270328T010000
END:DAYLIGHT
BEGIN:STANDARD
TZOFFSETFROM:+0300
TZOFFSETTO:+0200
TZNAME:EET
DTSTART:20271031T010000
END:STANDARD
END:VTIMEZONE
BEGIN:VEVENT
DTSTART;TZID=Europe/Helsinki:20260420T100000
DTEND;TZID=Europe/Helsinki:20260420T110000
DTSTAMP:20260420T015002
CREATED:20260113T070623Z
LAST-MODIFIED:20260113T070623Z
UID:21456-1776679200-1776682800@muistiaina.fi
SUMMARY:RENKO: Ohjattu kuntosaliryhmä
DESCRIPTION:Liikunta ja liike ovat aivoterveyden kulmakiviä. Tule mukaan kuntoilemaan muistiaktiivi\, fysioterapeutti Irmeli Anttilan ohjauksessa Hiljan kuntokammarille. Osallistuminen maksutonta. \nLisätietoa ja ilmoittautumiset: Irmeli Anttila puh. 050 3499 429
URL:https://muistiaina.fi/kalenteri/renko-ohjattu-kuntosaliryhma-14/
LOCATION:Hiljan kuntokammari\, Rengonraitti 19\, Renko
CATEGORIES:Renko
ORGANIZER;CN="Asiantuntija- ja tukikeskus Muistiluotsi":MAILTO:info@muistiaina.fi
END:VEVENT
BEGIN:VEVENT
DTSTART;TZID=Europe/Helsinki:20260420T113000
DTEND;TZID=Europe/Helsinki:20260420T130000
DTSTAMP:20260420T015002
CREATED:20260113T063450Z
LAST-MODIFIED:20260113T063450Z
UID:21324-1776684600-1776690000@muistiaina.fi
SUMMARY:HÄMEENLINNA: Juhuu! Muistiterveyttä yhdessä -ryhmä
DESCRIPTION:Kaipaatko virkistystä tai juttuseuraa? Haluatko tukea muistisi hyvinvointia rennolla mielellä\, mukavassa porukassa? \nJuhuu! -ryhmässä poristaan paljon\, jumpataan kehoa sekä muistia\, muistellaan mukavia ja ymmärretään enemmän yhdessä. Ryhmä sopii kaikille muistinsa hyvinvoinnista huolehtiville\, myös muistisairauteen sairastuneille ja heidän läheisilleen. \nRyhmä kokoontuu joka maanantai. Parittomilla viikoilla ryhmä kokoontuu omatoimisesti pelailemaan ja kahvittelemaan. Parillisilla viikoilla ohjaaja aina paikalla. Ryhmä on maksuton eikä vaadi ennakkoilmoittautumista. \nTervetuloa tutustumaan ryhmään!
URL:https://muistiaina.fi/kalenteri/hameenlinna-juhuu-muistiterveytta-yhdessa-ryhma-12/
LOCATION:Kanta-Hämeen Muistiyhdistys\, Kasarmikatu 12\, Hämeenlinna\, Kanta-Häme\, 13100\, Suomi
CATEGORIES:Hämeenlinna
ORGANIZER;CN="Asiantuntija- ja tukikeskus Muistiluotsi":MAILTO:info@muistiaina.fi
END:VEVENT
BEGIN:VEVENT
DTSTART;TZID=Europe/Helsinki:20260420T130000
DTEND;TZID=Europe/Helsinki:20260420T160000
DTSTAMP:20260420T015002
CREATED:20260213T080732Z
LAST-MODIFIED:20260217T135225Z
UID:22267-1776690000-1776700800@muistiaina.fi
SUMMARY:TURENKI: MuistiOvet-valmennus
DESCRIPTION:MuistiOvet-valmennus tarjoaa tietoa\, taitoa ja vertaistukea sinulle\, jonka läheinen on sairastunut muistisairauteen. Valmennuksessa käsitellään alustusten ja keskustelujen avulla keskeisiä omaishoitajuuteen ja muistisairauteen liittyviä teemoja. \nSopii omaishoitajille\, joille omaishoitajuus on tuore. \nValmennus järjestetään yhteistyössä Kanta-Hämeen Muistiluotsin ja Hämeenlinnan seudun Omaishoitajat ry:n kanssa. \n  \nIlmoittautumiset   \nSusannalle omaishoitajat@hmlomaishoitajat.fi\, puh. 040 7277 276 \ntai Siljalle silja.nurmi@muistiaina.fi\, puh. 040 726 7400
URL:https://muistiaina.fi/kalenteri/turenki-muistiovet-valmennus-2/
LOCATION:Turengin kirjasto\, Koulutie 2 A\, Janakkala\, Finland
CATEGORIES:Turenki
END:VEVENT
BEGIN:VEVENT
DTSTART;TZID=Europe/Helsinki:20260420T133000
DTEND;TZID=Europe/Helsinki:20260420T150000
DTSTAMP:20260420T015002
CREATED:20260209T071225Z
LAST-MODIFIED:20260209T071225Z
UID:22134-1776691800-1776697200@muistiaina.fi
SUMMARY:OITTI: Muistikahvila
DESCRIPTION:Haluatko saada hyödyllistä tietoa ikääntymisestä\, hyvinvoinnista ja muistista? Muistikahvilat toivottavat kaikki tervetulleiksi\, niin muististaan kiinnostuneet\, muistisairastuneet kuin läheisetkin. \nOsallistuminen on maksutonta ja kaikille avointa. Kahvi ja leivonnainen 2 €. \n\n\nMa 20.4. Glaukooma – salakavala sairaus Hannu Hoffren\, aivoterveyslähettiläs
URL:https://muistiaina.fi/kalenteri/oitti-muistikahvila-3/
LOCATION:Lehtimajat\, Kuusitie 10-18\, Oitti\, 12100
CATEGORIES:Oitti
ORGANIZER;CN="Asiantuntija- ja tukikeskus Muistiluotsi":MAILTO:info@muistiaina.fi
END:VEVENT
BEGIN:VEVENT
DTSTART;TZID=Europe/Helsinki:20260420T150000
DTEND;TZID=Europe/Helsinki:20260420T170000
DTSTAMP:20260420T015002
CREATED:20260209T064539Z
LAST-MODIFIED:20260209T064539Z
UID:22046-1776697200-1776704400@muistiaina.fi
SUMMARY:LAMMI: Muistikahvila
DESCRIPTION:Haluatko saada hyödyllistä tietoa ikääntymisestä\, hyvinvoinnista ja muistista? Muistikahvilat toivottavat kaikki tervetulleiksi\, niin muististaan kiinnostuneet\, muistisairastuneet kuin läheisetkin. \nOsallistuminen on maksutonta ja kaikille avointa. Kahvi ja leivonnainen 2 €. \n  \n\n\nMa 20.4. Ripaus rauhaa arjen ja mielen hallintaan Maria Laaksonen\, Ripaus rauhaa Oy
URL:https://muistiaina.fi/kalenteri/lammi-muistikahvila-3/
LOCATION:Lammin kirjasto\, Linjatie 12\, Hämeenlinna\, 16900
CATEGORIES:Lammi
ORGANIZER;CN="Asiantuntija- ja tukikeskus Muistiluotsi":MAILTO:info@muistiaina.fi
END:VEVENT
BEGIN:VEVENT
DTSTART;TZID=Europe/Helsinki:20260420T153000
DTEND;TZID=Europe/Helsinki:20260420T170000
DTSTAMP:20260420T015002
CREATED:20260209T070836Z
LAST-MODIFIED:20260209T070836Z
UID:22122-1776699000-1776704400@muistiaina.fi
SUMMARY:LOPPI: Muistikahvila
DESCRIPTION:Haluatko saada hyödyllistä tietoa ikääntymisestä\, hyvinvoinnista ja muistista? Muistikahvilat toivottavat kaikki tervetulleiksi\, niin muististaan kiinnostuneet\, muistisairastuneet kuin läheisetkin. \nOsallistuminen on maksutonta ja kaikille avointa. Kahvi ja leivonnainen 2 €. \n\n\nMa 20.4. Kannuksenpyörä – Hämäläisen ryijyn historiaa Annaliina Granqvist\, museolehtori\, Museo Skogster
URL:https://muistiaina.fi/kalenteri/loppi-muistikahvila-3/
LOCATION:Kuntala\, Holvitie 4\, Loppi\, 12700
CATEGORIES:Loppi
ORGANIZER;CN="Asiantuntija- ja tukikeskus Muistiluotsi":MAILTO:info@muistiaina.fi
END:VEVENT
END:VCALENDAR